BEGIN:VCALENDAR
VERSION:2.0
PRODID:-//Squarespace Inc/Squarespace 6//v6//EN
BEGIN:VEVENT
UID:5dae705f844a3027f47ccacb@squarespace.com
DTSTAMP:20160309T210425Z
DTSTART:20170415T140000Z
DTEND:20170415T220000Z
SUMMARY:Cherry Blossom Celebration
END:VEVENT
END:VCALENDAR
