BEGIN:VCALENDAR
VERSION:2.0
PRODID:-//Squarespace Inc/Squarespace 6//v6//EN
BEGIN:VEVENT
UID:5dae705f844a3027f47ccac1@squarespace.com
DTSTAMP:20160205T153459Z
DTSTART:20160219T000000Z
DTEND:20160219T010000Z
SUMMARY:Professor Eugene Thompson: Winter Sustenance Throughout History
END:VEVENT
END:VCALENDAR
