BEGIN:VCALENDAR
VERSION:2.0
PRODID:-//Squarespace Inc/Squarespace 6//v6//EN
BEGIN:VEVENT
UID:5dae705f844a3027f47ccac5@squarespace.com
DTSTAMP:20160202T210300Z
DTSTART:20161105T160000Z
DTEND:20161105T200000Z
SUMMARY:Turnip Harvest
END:VEVENT
END:VCALENDAR
