BEGIN:VCALENDAR
VERSION:2.0
PRODID:-//Squarespace Inc/Squarespace 6//v6//EN
BEGIN:VEVENT
UID:5dae705f844a3027f47ccac3@squarespace.com
DTSTAMP:20160202T205538Z
DTSTART:20161015T190000Z
DTEND:20161015T200000Z
SUMMARY:Pumpkin Pie Bake
END:VEVENT
END:VCALENDAR
