BEGIN:VCALENDAR
VERSION:2.0
PRODID:-//Squarespace Inc/Squarespace 6//v6//EN
BEGIN:VEVENT
UID:5dae705f844a3027f47ccac9@squarespace.com
DTSTAMP:20160309T210357Z
DTSTART:20170225T150000Z
DTEND:20170225T180000Z
SUMMARY:Kohlrabi 5 Ways
END:VEVENT
END:VCALENDAR
