BEGIN:VCALENDAR
VERSION:2.0
PRODID:-//Squarespace Inc/Squarespace 6//v6//EN
BEGIN:VEVENT
UID:5dae705f844a3027f47ccac7@squarespace.com
DTSTAMP:20160202T211434Z
DTSTART:20161201T170000Z
DTEND:20161231T180000Z
SUMMARY:Coat Drive
END:VEVENT
END:VCALENDAR
